BEGIN:VCALENDAR
VERSION:2.0
PRODID:-//Plone.org//NONSGML plone.app.event//EN
X-WR-TIMEZONE:Europe/Paris
BEGIN:VEVENT
SUMMARY:Rentrée Aumônerie - Vendredi 23 septembre 2022
DTSTART;TZID=Europe/Paris;VALUE=DATE-TIME:20220923T190000
DTEND;TZID=Europe/Paris;VALUE=DATE-TIME:20220923T220000
DTSTAMP;VALUE=DATE-TIME:20260420T180922Z
UID:f7ff34b8d55e4355960eac87369972dd@www.yonne.catholique.fr
CREATED;VALUE=DATE-TIME:20220819T201038Z
DESCRIPTION:Comme d'habitude\, nous nous retrouverons au presbytère de Mo
 néteau de 19h à 22h
LAST-MODIFIED;VALUE=DATE-TIME:20220930T210338Z
URL:https://www.yonne.catholique.fr/sainte-trinite/actualite-paroissiale/a
 genda/rentree-aumonerie-vendredi-23-septembre-2022
END:VEVENT
BEGIN:VTIMEZONE
TZID:Europe/Paris
X-LIC-LOCATION:Europe/Paris
BEGIN:DAYLIGHT
DTSTART;VALUE=DATE-TIME:20220327T030000
TZNAME:CEST
TZOFFSETFROM:+0100
TZOFFSETTO:+0200
END:DAYLIGHT
END:VTIMEZONE
END:VCALENDAR
