BEGIN:VCALENDAR
VERSION:2.0
PRODID:-//Plone.org//NONSGML plone.app.event//EN
X-WR-TIMEZONE:Europe/Paris
BEGIN:VEVENT
SUMMARY:Samedi 11 janvier 2025 : rencontre caté
DTSTART;TZID=Europe/Paris;VALUE=DATE-TIME:20250111T094500
DTEND;TZID=Europe/Paris;VALUE=DATE-TIME:20250111T120000
DTSTAMP;VALUE=DATE-TIME:20260421T044828Z
UID:809d920821c04573b021d58f77442a51@www.yonne.catholique.fr
CREATED;VALUE=DATE-TIME:20241225T101812Z
LAST-MODIFIED;VALUE=DATE-TIME:20241227T103057Z
LOCATION:Salle Saint Cyr à Monéteau
URL:https://www.yonne.catholique.fr/sainte-trinite/actualite-paroissiale/a
 genda/samedi-11-janvier-2025-rencontre-cate
END:VEVENT
BEGIN:VTIMEZONE
TZID:Europe/Paris
X-LIC-LOCATION:Europe/Paris
BEGIN:STANDARD
DTSTART;VALUE=DATE-TIME:20241027T020000
TZNAME:CET
TZOFFSETFROM:+0200
TZOFFSETTO:+0100
END:STANDARD
END:VTIMEZONE
END:VCALENDAR
