BEGIN:VCALENDAR
VERSION:2.0
PRODID:-//Plone.org//NONSGML plone.app.event//EN
X-WR-TIMEZONE:Europe/Paris
BEGIN:VEVENT
SUMMARY:Samedi 23 juin 2026 : rencontre caté
DTSTART;TZID=Europe/Paris;VALUE=DATE-TIME:20250623T094500
DTEND;TZID=Europe/Paris;VALUE=DATE-TIME:20250623T120000
DTSTAMP;VALUE=DATE-TIME:20260419T235223Z
UID:9ed43188824342f7a98775bd43db2164@www.yonne.catholique.fr
CREATED;VALUE=DATE-TIME:20251231T095627Z
LAST-MODIFIED;VALUE=DATE-TIME:20251231T095806Z
LOCATION:Salle Saint Cyr à Monéteau
URL:https://www.yonne.catholique.fr/sainte-trinite/actualite-paroissiale/a
 genda/samedi-23-juin-2026-rencontre-cate
END:VEVENT
BEGIN:VTIMEZONE
TZID:Europe/Paris
X-LIC-LOCATION:Europe/Paris
BEGIN:DAYLIGHT
DTSTART;VALUE=DATE-TIME:20250330T030000
TZNAME:CEST
TZOFFSETFROM:+0100
TZOFFSETTO:+0200
END:DAYLIGHT
END:VTIMEZONE
END:VCALENDAR
