BEGIN:VCALENDAR
VERSION:2.0
PRODID:-//Plone.org//NONSGML plone.app.event//EN
X-WR-TIMEZONE:Europe/Paris
BEGIN:VEVENT
SUMMARY:Samedi 28 mars 2026 : Fête du Pardon
DTSTART;TZID=Europe/Paris;VALUE=DATE-TIME:20260328T100000
DTEND;TZID=Europe/Paris;VALUE=DATE-TIME:20260328T120000
DTSTAMP;VALUE=DATE-TIME:20260419T202131Z
UID:d0de6d2b0c5c40578edd3f3e0e02d32d@www.yonne.catholique.fr
CREATED;VALUE=DATE-TIME:20250928T160415Z
DESCRIPTION:Fête du Pardon avec différents ateliers ouverts à tous (enf
 ants\, adolescents et adultes) avec possibilité de confession individuell
 e. Chacun venant à l'heure de son choix.
LAST-MODIFIED;VALUE=DATE-TIME:20260306T205333Z
LOCATION:Eglise de Monéteau
URL:https://www.yonne.catholique.fr/sainte-trinite/actualite-paroissiale/a
 genda/samedi-28-mars-2026-fete-du-pardon
END:VEVENT
BEGIN:VTIMEZONE
TZID:Europe/Paris
X-LIC-LOCATION:Europe/Paris
BEGIN:STANDARD
DTSTART;VALUE=DATE-TIME:20251026T020000
TZNAME:CET
TZOFFSETFROM:+0200
TZOFFSETTO:+0100
END:STANDARD
END:VTIMEZONE
END:VCALENDAR
