BEGIN:VCALENDAR
VERSION:2.0
PRODID:-//Plone.org//NONSGML plone.app.event//EN
X-WR-TIMEZONE:Europe/Paris
BEGIN:VEVENT
SUMMARY:Vendredi 10 décembre 2021 : Rencontre Aumônerie
DTSTART;TZID=Europe/Vienna;VALUE=DATE-TIME:20211210T190000
DTEND;TZID=Europe/Vienna;VALUE=DATE-TIME:20211210T220000
DTSTAMP;VALUE=DATE-TIME:20260424T140409Z
UID:35034a0d47be43a581cfb349f1650013@www.yonne.catholique.fr
CREATED;VALUE=DATE-TIME:20211001T202559Z
LAST-MODIFIED;VALUE=DATE-TIME:20211001T202615Z
LOCATION:Au Presbytère de Monéteau
URL:https://www.yonne.catholique.fr/sainte-trinite/actualite-paroissiale/a
 genda/vendredi-10-decembre-2021-rencontre-aumonerie
END:VEVENT
BEGIN:VTIMEZONE
TZID:Europe/Vienna
X-LIC-LOCATION:Europe/Vienna
BEGIN:STANDARD
DTSTART;VALUE=DATE-TIME:20211031T020000
TZNAME:CET
TZOFFSETFROM:+0200
TZOFFSETTO:+0100
END:STANDARD
END:VTIMEZONE
END:VCALENDAR
