BEGIN:VCALENDAR
VERSION:2.0
PRODID:-//Plone.org//NONSGML plone.app.event//EN
X-WR-TIMEZONE:Europe/Paris
BEGIN:VEVENT
SUMMARY:Vendredi 24 avril 2026 : rencontre aumônerie
DTSTART;TZID=Europe/Paris;VALUE=DATE-TIME:20260424T190000
DTEND;TZID=Europe/Paris;VALUE=DATE-TIME:20260424T220000
DTSTAMP;VALUE=DATE-TIME:20260420T000154Z
UID:56e621b4f68a498a85429463c8351218@www.yonne.catholique.fr
CREATED;VALUE=DATE-TIME:20250928T161500Z
LAST-MODIFIED;VALUE=DATE-TIME:20250928T161639Z
LOCATION:Salle paroissiale d'Appoigny
URL:https://www.yonne.catholique.fr/sainte-trinite/actualite-paroissiale/a
 genda/vendredi-24-avril-2026-rencontre-aumonerie
END:VEVENT
BEGIN:VTIMEZONE
TZID:Europe/Paris
X-LIC-LOCATION:Europe/Paris
BEGIN:DAYLIGHT
DTSTART;VALUE=DATE-TIME:20260329T030000
TZNAME:CEST
TZOFFSETFROM:+0100
TZOFFSETTO:+0200
END:DAYLIGHT
END:VTIMEZONE
END:VCALENDAR
