BEGIN:VCALENDAR
VERSION:2.0
PRODID:-//Plone.org//NONSGML plone.app.event//EN
X-WR-TIMEZONE:Europe/Paris
BEGIN:VEVENT
SUMMARY:Chorale paroissiale de Sens
DTSTART;TZID=Europe/Paris;VALUE=DATE-TIME:20220913T180000
DTEND;TZID=Europe/Paris;VALUE=DATE-TIME:20220913T190000
DTSTAMP;VALUE=DATE-TIME:20260422T153837Z
UID:5a10eec4fb724302b5ff764b0d3dcaac@www.yonne.catholique.fr
CONTACT:Jean-Michel Durel\, 06 80 11 38 62
CREATED;VALUE=DATE-TIME:20220906T155508Z
DESCRIPTION:Vous désirez chanter\, participer à l'animation liturgique..
 . La chorale paroissiale vous attend !\n\n
LAST-MODIFIED;VALUE=DATE-TIME:20221230T190612Z
LOCATION:Maison Cathédrale (148\, rue des Déportés et de la Résistance
  à Sens)
URL:https://www.yonne.catholique.fr/sens-et-environs/vie-paroissiale/agend
 a/chorale-paroissiale-de-sens
END:VEVENT
BEGIN:VTIMEZONE
TZID:Europe/Paris
X-LIC-LOCATION:Europe/Paris
BEGIN:DAYLIGHT
DTSTART;VALUE=DATE-TIME:20220327T030000
TZNAME:CEST
TZOFFSETFROM:+0100
TZOFFSETTO:+0200
END:DAYLIGHT
END:VTIMEZONE
END:VCALENDAR
