BEGIN:VCALENDAR
VERSION:2.0
PRODID:-//Plone.org//NONSGML plone.app.event//EN
X-WR-TIMEZONE:Europe/Paris
BEGIN:VEVENT
SUMMARY:Conférence de Carême
DTSTART;TZID=Europe/Paris;VALUE=DATE-TIME:20260303T203000
DTEND;TZID=Europe/Paris;VALUE=DATE-TIME:20260303T213000
DTSTAMP;VALUE=DATE-TIME:20260424T122737Z
UID:c171ad1087fc44cfa71f02cbd20c438e@www.yonne.catholique.fr
CONTACT:Service diocésain de la Formation\, formations@diocese89.fr
CREATED;VALUE=DATE-TIME:20260131T095352Z
DESCRIPTION:"La liturgie fait de nous des hommes nouveaux"\n\nMgr Pascal W
 intzer donnera une conférence pour le temps du Carême
LAST-MODIFIED;VALUE=DATE-TIME:20260208T191806Z
LOCATION:Archevêché de Sens (72bis\, rue du Général Allix)
URL:https://www.yonne.catholique.fr/sens-et-environs/vie-paroissiale/agend
 a/conference-de-careme-6
END:VEVENT
BEGIN:VTIMEZONE
TZID:Europe/Paris
X-LIC-LOCATION:Europe/Paris
BEGIN:STANDARD
DTSTART;VALUE=DATE-TIME:20251026T020000
TZNAME:CET
TZOFFSETFROM:+0200
TZOFFSETTO:+0100
END:STANDARD
END:VTIMEZONE
END:VCALENDAR
