BEGIN:VCALENDAR
VERSION:2.0
PRODID:-//Plone.org//NONSGML plone.app.event//EN
X-WR-TIMEZONE:Europe/Paris
BEGIN:VEVENT
SUMMARY:Confirmation d'adultes
DTSTART;TZID=Europe/Paris;VALUE=DATE-TIME:20241203T203000
DTEND;TZID=Europe/Paris;VALUE=DATE-TIME:20241203T220000
DTSTAMP;VALUE=DATE-TIME:20260420T033259Z
UID:cccd43bd93df406dbe7178387abcbf44@www.yonne.catholique.fr
CONTACT:Corinne Vettivelu - Florence de Romémont\, 06 82 13 45 83 - 06 19
  64 23 39\, catechumenat89@gmail.com
CREATED;VALUE=DATE-TIME:20241102T143102Z
DESCRIPTION:Vous n'êtes pas confirmés et désirez l'être. \n\nPour vous
  accompagner\, un nouveau groupe se met en route \n\n
LAST-MODIFIED;VALUE=DATE-TIME:20241204T163258Z
LOCATION:Maison cathédrale (148\, rue de la Résistance à Sens)
URL:https://www.yonne.catholique.fr/sens-et-environs/vie-paroissiale/agend
 a/confirmation-dadultes-1
END:VEVENT
BEGIN:VTIMEZONE
TZID:Europe/Paris
X-LIC-LOCATION:Europe/Paris
BEGIN:STANDARD
DTSTART;VALUE=DATE-TIME:20241027T020000
TZNAME:CET
TZOFFSETFROM:+0200
TZOFFSETTO:+0100
END:STANDARD
END:VTIMEZONE
END:VCALENDAR
