BEGIN:VCALENDAR
VERSION:2.0
PRODID:-//Plone.org//NONSGML plone.app.event//EN
X-WR-TIMEZONE:Europe/Paris
BEGIN:VEVENT
SUMMARY:Groupe de prière oecuménique
DTSTART;TZID=Europe/Paris;VALUE=DATE-TIME:20260116T201500
DTEND;TZID=Europe/Paris;VALUE=DATE-TIME:20260116T210000
DTSTAMP;VALUE=DATE-TIME:20260424T015525Z
UID:661c4497675c44e9949758ca717aa520@www.yonne.catholique.fr
CONTACT:Frédéric Canler (diacre)\, 06 66 66 73 75\, fermederosny@yahoo.f
 r
CREATED;VALUE=DATE-TIME:20251125T175751Z
DESCRIPTION:Création sur le doyenné du Sénonais d'un groupe de prière 
 inspiré par la spiritualité de Taizé\, centré sur la recherche de l'un
 ité et de la paix entre les personnes et les peuples
LAST-MODIFIED;VALUE=DATE-TIME:20251207T173316Z
LOCATION:Pont sur Yonne (Maison paroissiale - 1er étage)
URL:https://www.yonne.catholique.fr/sens-et-environs/vie-paroissiale/agend
 a/groupe-de-priere-oecumenique
END:VEVENT
BEGIN:VTIMEZONE
TZID:Europe/Paris
X-LIC-LOCATION:Europe/Paris
BEGIN:STANDARD
DTSTART;VALUE=DATE-TIME:20251026T020000
TZNAME:CET
TZOFFSETFROM:+0200
TZOFFSETTO:+0100
END:STANDARD
END:VTIMEZONE
END:VCALENDAR
