BEGIN:VCALENDAR
VERSION:2.0
PRODID:-//Plone.org//NONSGML plone.app.event//EN
X-WR-TIMEZONE:Europe/Paris
BEGIN:VEVENT
SUMMARY:Marche pour la Paix et conférence
DTSTART;TZID=Europe/Paris;VALUE=DATE-TIME:20260507T180000
DTEND;TZID=Europe/Paris;VALUE=DATE-TIME:20260507T193000
DTSTAMP;VALUE=DATE-TIME:20260422T132630Z
UID:7d72f7f23672408285c5d53dc9ab25ea@www.yonne.catholique.fr
CONTACT:Association Paris-Sens-Vézelay\, 06 81 79 15 10\, louischevalier.
 psv@gmail.com
CREATED;VALUE=DATE-TIME:20260420T093708Z
DESCRIPTION:Des marcheurs de toute l'Europe se mettent en route pour la Pa
 ix\, jusqu'à Jérusalem.\n\nCertains\, partis de la Tour Saint-Jacques à
  Paris\, feront étape à Sens. A cette occasion\, une conférence ouverte
  à tous sera proposée\, suivie d'un diaporama sur le thème "25 000 kms 
 à pied sur les chemins de pèlerinage".\n\nVenez nombreux manifester votr
 e intérêt pour cette paix qui semble bien loin des préoccupations du mo
 nde.\n\n
LAST-MODIFIED;VALUE=DATE-TIME:20260421T085643Z
LOCATION:Maison des Associations (Site Saint-Savinien à Sens)
URL:https://www.yonne.catholique.fr/sens-et-environs/vie-paroissiale/agend
 a/marche-pour-la-paix-et-conference
END:VEVENT
BEGIN:VTIMEZONE
TZID:Europe/Paris
X-LIC-LOCATION:Europe/Paris
BEGIN:DAYLIGHT
DTSTART;VALUE=DATE-TIME:20260329T030000
TZNAME:CEST
TZOFFSETFROM:+0100
TZOFFSETTO:+0200
END:DAYLIGHT
END:VTIMEZONE
END:VCALENDAR
