BEGIN:VCALENDAR
VERSION:2.0
PRODID:-//Plone.org//NONSGML plone.app.event//EN
X-WR-TIMEZONE:Europe/Paris
BEGIN:VEVENT
SUMMARY:Mercredi Saint
DTSTART;TZID=Europe/Vienna;VALUE=DATE-TIME:20200408T000000
DTEND;TZID=Europe/Vienna;VALUE=DATE-TIME:20200408T000000
DTSTAMP;VALUE=DATE-TIME:20260421T145946Z
UID:8863e3e1c02f4fc8a6d1644089747ce3@www.yonne.catholique.fr
CREATED;VALUE=DATE-TIME:20200408T100044Z
DESCRIPTION:\n"Il porte nos souffrances pour nous rendre forts" : voici la
  méditation proposée en ce jour par le Père Joël Rignault.\n\nVous tro
 uverez également la démarche pénitentielle proposée par le Diocèse\, 
 pour vous préparer à la grande fête de Pâques. \n\n
LAST-MODIFIED;VALUE=DATE-TIME:20200408T102110Z
URL:https://www.yonne.catholique.fr/sens-et-environs/vie-paroissiale/agend
 a/mercredi-saint
END:VEVENT
BEGIN:VTIMEZONE
TZID:Europe/Vienna
X-LIC-LOCATION:Europe/Vienna
BEGIN:DAYLIGHT
DTSTART;VALUE=DATE-TIME:20200329T030000
TZNAME:CEST
TZOFFSETFROM:+0100
TZOFFSETTO:+0200
END:DAYLIGHT
END:VTIMEZONE
END:VCALENDAR
