BEGIN:VCALENDAR
VERSION:2.0
PRODID:-//Plone.org//NONSGML plone.app.event//EN
X-WR-TIMEZONE:Europe/Paris
BEGIN:VEVENT
SUMMARY:Pèlerinage sainte Alpais
DTSTART;TZID=Europe/Paris;VALUE=DATE-TIME:20260514T080000
DTEND;TZID=Europe/Paris;VALUE=DATE-TIME:20260514T170000
DTSTAMP;VALUE=DATE-TIME:20260421T200044Z
UID:5a267ad0123d4c35837d4f432bf30401@www.yonne.catholique.fr
CONTACT:Marie-Françoise Bosset\, 06 33 96 60 69\, jackybosset@orange.fr
CREATED;VALUE=DATE-TIME:20260420T082914Z
DESCRIPTION:Marche\, messe\, procession\, parcours découverte... Nous iro
 ns de nouveau à la rencontre de sainte Alpais en ce prochain jeudi de l'A
 scension
LAST-MODIFIED;VALUE=DATE-TIME:20260421T091858Z
LOCATION:Cudot
URL:https://www.yonne.catholique.fr/sens-et-environs/vie-paroissiale/agend
 a/pelerinage-sainte-alpais-4
END:VEVENT
BEGIN:VTIMEZONE
TZID:Europe/Paris
X-LIC-LOCATION:Europe/Paris
BEGIN:DAYLIGHT
DTSTART;VALUE=DATE-TIME:20260329T030000
TZNAME:CEST
TZOFFSETFROM:+0100
TZOFFSETTO:+0200
END:DAYLIGHT
END:VTIMEZONE
END:VCALENDAR
