BEGIN:VCALENDAR
VERSION:2.0
PRODID:-//Plone.org//NONSGML plone.app.event//EN
X-WR-TIMEZONE:Europe/Paris
BEGIN:VEVENT
SUMMARY:Temps fort interparoissial
DTSTART;TZID=Europe/Paris;VALUE=DATE-TIME:20250406T150000
DTEND;TZID=Europe/Paris;VALUE=DATE-TIME:20250406T170000
DTSTAMP;VALUE=DATE-TIME:20260426T030230Z
UID:c912efe897c84af1b14522d28e152660@www.yonne.catholique.fr
CONTACT:Delphine Delaveau\, 06 23 05 67 77\, delaveaudelphine@yahoo.fr
CREATED;VALUE=DATE-TIME:20240925T101033Z
DESCRIPTION:Rendez-vous pour une randonnée conviviale et fraternelle\, ou
 verte à toutes et tous
LAST-MODIFIED;VALUE=DATE-TIME:20250406T193838Z
LOCATION:Villeneuve sur Yonne
URL:https://www.yonne.catholique.fr/sens-et-environs/vie-paroissiale/agend
 a/temps-fort-interparoissial
END:VEVENT
BEGIN:VTIMEZONE
TZID:Europe/Paris
X-LIC-LOCATION:Europe/Paris
BEGIN:DAYLIGHT
DTSTART;VALUE=DATE-TIME:20250330T030000
TZNAME:CEST
TZOFFSETFROM:+0100
TZOFFSETTO:+0200
END:DAYLIGHT
END:VTIMEZONE
END:VCALENDAR
