BEGIN:VCALENDAR
VERSION:2.0
PRODID:-//Plone.org//NONSGML plone.app.event//EN
X-WR-TIMEZONE:Europe/Paris
BEGIN:VEVENT
SUMMARY:Temps fort paroissial
DTSTART;TZID=Europe/Paris;VALUE=DATE-TIME:20260501T073000
DTEND;TZID=Europe/Paris;VALUE=DATE-TIME:20260501T190000
DTSTAMP;VALUE=DATE-TIME:20260419T181102Z
UID:a54eae3f79c24d8b9caed8bf93238eb7@www.yonne.catholique.fr
CONTACT:Paroisse de Sens\, 03 86 65 06 57\, cathedrale.sens89@gmail.com
CREATED;VALUE=DATE-TIME:20260223T140312Z
DESCRIPTION:La paroisse Saint-Savinien de Sens organise son temps fort ann
 uel\, ouvert à tous
LAST-MODIFIED;VALUE=DATE-TIME:20260406T161646Z
LOCATION:Abbaye de la Pierre qui Vire
URL:https://www.yonne.catholique.fr/sens-et-environs/vie-paroissiale/agend
 a/temps-fort-paroissial
END:VEVENT
BEGIN:VTIMEZONE
TZID:Europe/Paris
X-LIC-LOCATION:Europe/Paris
BEGIN:DAYLIGHT
DTSTART;VALUE=DATE-TIME:20260329T030000
TZNAME:CEST
TZOFFSETFROM:+0100
TZOFFSETTO:+0200
END:DAYLIGHT
END:VTIMEZONE
END:VCALENDAR
