BEGIN:VCALENDAR
VERSION:2.0
PRODID:-//Plone.org//NONSGML plone.app.event//EN
X-WR-TIMEZONE:Europe/Paris
BEGIN:VEVENT
SUMMARY:Concert de "l'Esemble Vocal de l'Atelier de l'Horloge"
DTSTART;TZID=Europe/Vienna;VALUE=DATE-TIME:20210522T180000
DTEND;TZID=Europe/Vienna;VALUE=DATE-TIME:20210522T200000
DTSTAMP;VALUE=DATE-TIME:20260425T133604Z
UID:62f5b665adc0416a9944809e5fb10277@www.yonne.catholique.fr
CREATED;VALUE=DATE-TIME:20210519T164118Z
LAST-MODIFIED;VALUE=DATE-TIME:20210519T164145Z
LOCATION:Eglise de Saint-Fargeau
URL:https://www.yonne.catholique.fr/st-pierre-st-paul/actualite-paroissial
 e/l2019agenda-paroissial/concert-de-lesemble-vocal-de-latelier-de-lhorloge
END:VEVENT
BEGIN:VTIMEZONE
TZID:Europe/Vienna
X-LIC-LOCATION:Europe/Vienna
BEGIN:DAYLIGHT
DTSTART;VALUE=DATE-TIME:20210328T030000
TZNAME:CEST
TZOFFSETFROM:+0100
TZOFFSETTO:+0200
END:DAYLIGHT
END:VTIMEZONE
END:VCALENDAR
