BEGIN:VCALENDAR
VERSION:2.0
PRODID:-//Plone.org//NONSGML plone.app.event//EN
X-WR-TIMEZONE:Europe/Paris
BEGIN:VEVENT
SUMMARY:Consultation Synodale 
DTSTART;TZID=Europe/Vienna;VALUE=DATE-TIME:20220305T140000
DTEND;TZID=Europe/Vienna;VALUE=DATE-TIME:20220305T170000
DTSTAMP;VALUE=DATE-TIME:20260419T212946Z
UID:4e2a9462c7c741b6afae3ed6481f9c81@www.yonne.catholique.fr
CONTACT:Port:06 03 52 61 14\, synodesacrecoeurenpuisaye@gmail.com
CREATED;VALUE=DATE-TIME:20220222T183143Z
DESCRIPTION:Le Pape François vous demande votre avis 
LAST-MODIFIED;VALUE=DATE-TIME:20220223T210838Z
LOCATION:Salle du Bief \,2 rue Lepelletier St Fargeau 
URL:https://www.yonne.catholique.fr/st-pierre-st-paul/actualite-paroissial
 e/l2019agenda-paroissial/consultation-synodale
END:VEVENT
BEGIN:VTIMEZONE
TZID:Europe/Vienna
X-LIC-LOCATION:Europe/Vienna
BEGIN:STANDARD
DTSTART;VALUE=DATE-TIME:20211031T020000
TZNAME:CET
TZOFFSETFROM:+0200
TZOFFSETTO:+0100
END:STANDARD
END:VTIMEZONE
END:VCALENDAR
