BEGIN:VCALENDAR
VERSION:2.0
PRODID:-//Plone.org//NONSGML plone.app.event//EN
X-WR-TIMEZONE:Europe/Paris
BEGIN:VEVENT
SUMMARY:Coordination pastorale du Doyenné
DTSTART;TZID=Europe/Paris;VALUE=DATE-TIME:20220903T093000
DTEND;TZID=Europe/Paris;VALUE=DATE-TIME:20220903T113000
DTSTAMP;VALUE=DATE-TIME:20260420T010542Z
UID:263e6c9520904159b2313cf162364ee8@www.yonne.catholique.fr
CREATED;VALUE=DATE-TIME:20220816T160655Z
LAST-MODIFIED;VALUE=DATE-TIME:20220816T160717Z
LOCATION:Saint-Fargeau 
URL:https://www.yonne.catholique.fr/st-pierre-st-paul/actualite-paroissial
 e/l2019agenda-paroissial/coordination-pastorale-du-doyenne-1
END:VEVENT
BEGIN:VTIMEZONE
TZID:Europe/Paris
X-LIC-LOCATION:Europe/Paris
BEGIN:DAYLIGHT
DTSTART;VALUE=DATE-TIME:20220327T030000
TZNAME:CEST
TZOFFSETFROM:+0100
TZOFFSETTO:+0200
END:DAYLIGHT
END:VTIMEZONE
END:VCALENDAR
