BEGIN:VCALENDAR
VERSION:2.0
PRODID:-//Plone.org//NONSGML plone.app.event//EN
X-WR-TIMEZONE:Europe/Paris
BEGIN:VEVENT
SUMMARY:Ouverture d'un groupe scout à Saint Fargeau
DTSTART;TZID=Europe/Vienna;VALUE=DATE-TIME:20220304T183000
DTSTAMP;VALUE=DATE-TIME:20260423T213832Z
UID:509c8b47f3474e7ea4bf10529cc0b63f@www.yonne.catholique.fr
CREATED;VALUE=DATE-TIME:20220222T180458Z
DESCRIPTION:Cette réunion nous permettra de vous présenter l'association
  de Scouts et Guides de France\, d'échanger sur le projet d'ouverture du 
 groupe et de répondre à vos éventuelles questions.
LAST-MODIFIED;VALUE=DATE-TIME:20220223T091638Z
LOCATION:Presbytère de Saint Fargeau 2 rue Michel Pelletier 
URL:https://www.yonne.catholique.fr/st-pierre-st-paul/actualite-paroissial
 e/l2019agenda-paroissial/ouverture-dun-groupe-scout-a-saint-fargeau
END:VEVENT
BEGIN:VTIMEZONE
TZID:Europe/Vienna
X-LIC-LOCATION:Europe/Vienna
BEGIN:STANDARD
DTSTART;VALUE=DATE-TIME:20211031T020000
TZNAME:CET
TZOFFSETFROM:+0200
TZOFFSETTO:+0100
END:STANDARD
END:VTIMEZONE
END:VCALENDAR
