BEGIN:VCALENDAR
VERSION:2.0
PRODID:-//Plone.org//NONSGML plone.app.event//EN
X-WR-TIMEZONE:Europe/Paris
BEGIN:VEVENT
SUMMARY:Assemblée diocésaine
DTSTART;TZID=Europe/Vienna;VALUE=DATE-TIME:20210220T140000
DTEND;TZID=Europe/Vienna;VALUE=DATE-TIME:20210220T170000
DTSTAMP;VALUE=DATE-TIME:20260421T132906Z
UID:49f3e5d9d6b64564a6f29e1a99bb04ed@www.yonne.catholique.fr
ATTENDEE;CN="tous les acteurs de la vie chrétienne et d'abord les membres
  des EAP du Tonnerrois";ROLE=REQ-PARTICIPANT:tous les acteurs de la vie ch
 rétienne et d'abord les membres des EAP du Tonnerrois
CONTACT:maison paroissiale de Tonnerre\, 03 86 55 10 98\, paroisse.tonnerr
 e@orange.fr
CREATED;VALUE=DATE-TIME:20210217T211151Z
LAST-MODIFIED;VALUE=DATE-TIME:20210301T101704Z
LOCATION:Tonnerre\, 9 rue du Pâtis à la salle Paulin
URL:https://www.yonne.catholique.fr/tonnerrois/actualite-paroissiale/agend
 a/assemblee-diocesaine
END:VEVENT
BEGIN:VTIMEZONE
TZID:Europe/Vienna
X-LIC-LOCATION:Europe/Vienna
BEGIN:STANDARD
DTSTART;VALUE=DATE-TIME:20201025T020000
TZNAME:CET
TZOFFSETFROM:+0200
TZOFFSETTO:+0100
END:STANDARD
END:VTIMEZONE
END:VCALENDAR
