BEGIN:VCALENDAR
VERSION:2.0
PRODID:-//Plone.org//NONSGML plone.app.event//EN
X-WR-TIMEZONE:Europe/Paris
BEGIN:VEVENT
SUMMARY:Ateliers Évangile : 4ème rencontre 
DTSTART;TZID=Europe/Paris;VALUE=DATE-TIME:20260428T150000
DTEND;TZID=Europe/Paris;VALUE=DATE-TIME:20260428T160000
DTSTAMP;VALUE=DATE-TIME:20260420T073400Z
UID:be37a4eb47ec404ead03e347e08d63c2@www.yonne.catholique.fr
ATTENDEE;CN="Animée par le père François Campagnac";ROLE=REQ-PARTICIPAN
 T:Animée par le père François Campagnac
CONTACT:Service diocésain de la Formation du diocèse de Sens & Auxerre\,
  formations@diocese89.fr
CREATED;VALUE=DATE-TIME:20191122T105714Z
DESCRIPTION:Le service diocésain de Formation permanente propose\, en com
 plément du livret d'année 2026 sur le Psaumes\, une lecture comparée de
 s récits de la mort de Jésus dans les 4 Évangiles.
LAST-MODIFIED;VALUE=DATE-TIME:20251209T093957Z
LOCATION:Maison Paroissiale de Tonnerre\, salle Paulin
URL:https://www.yonne.catholique.fr/tonnerrois/actualite-paroissiale/agend
 a/ateliers-evangile-4eme-rencontre
END:VEVENT
BEGIN:VTIMEZONE
TZID:Europe/Paris
X-LIC-LOCATION:Europe/Paris
BEGIN:DAYLIGHT
DTSTART;VALUE=DATE-TIME:20260329T030000
TZNAME:CEST
TZOFFSETFROM:+0100
TZOFFSETTO:+0200
END:DAYLIGHT
END:VTIMEZONE
END:VCALENDAR
