BEGIN:VCALENDAR
VERSION:2.0
PRODID:-//Plone.org//NONSGML plone.app.event//EN
X-WR-TIMEZONE:Europe/Paris
BEGIN:VEVENT
SUMMARY:Bilan du "chemin des crèches" 2019
DTSTART;TZID=Europe/Vienna;VALUE=DATE-TIME:20200207T150000
DTEND;TZID=Europe/Vienna;VALUE=DATE-TIME:20200207T160000
DTSTAMP;VALUE=DATE-TIME:20260424T045104Z
UID:73c1f30544004e529d8db49a8ecd514d@www.yonne.catholique.fr
ATTENDEE;CN="tous les participants de chaque église concernée... et ceux
  qui voudraient se lancer en 2020";ROLE=REQ-PARTICIPANT:tous les participa
 nts de chaque église concernée... et ceux qui voudraient se lancer en 20
 20
CONTACT:maison paroissiale\, 03 86 55 10 98\, paroisse.tonnerre@orange.fr
CREATED;VALUE=DATE-TIME:20200123T100812Z
DESCRIPTION:La proposition d'un chemin des crèches a emporté un succès 
 de participation\, puisqu'en une quinzaine d'églises de la Paroisse St Ro
 bert\, un accueil était prévu... avec maintes provisions de gâteaux ou 
 de boissons chaudes et beaucoup d'amitié...\nNous en ferons un bilan... e
 n vue d'une troisième opération
LAST-MODIFIED;VALUE=DATE-TIME:20200123T100844Z
LOCATION:Maison paroissiale de Tonnerre -09 rue du Pâtis
URL:https://www.yonne.catholique.fr/tonnerrois/actualite-paroissiale/agend
 a/bilan-du-chemin-des-creches-2019
END:VEVENT
BEGIN:VTIMEZONE
TZID:Europe/Vienna
X-LIC-LOCATION:Europe/Vienna
BEGIN:STANDARD
DTSTART;VALUE=DATE-TIME:20191027T020000
TZNAME:CET
TZOFFSETFROM:+0200
TZOFFSETTO:+0100
END:STANDARD
END:VTIMEZONE
END:VCALENDAR
