BEGIN:VCALENDAR
VERSION:2.0
PRODID:-//Plone.org//NONSGML plone.app.event//EN
X-WR-TIMEZONE:Europe/Paris
BEGIN:VEVENT
SUMMARY:Célébrations de Noël 2020
DTSTART;TZID=Europe/Vienna;VALUE=DATE-TIME:20201224T180000
DTEND;TZID=Europe/Vienna;VALUE=DATE-TIME:20201225T230000
DTSTAMP;VALUE=DATE-TIME:20260424T234043Z
UID:e6a76027ba8f409d8817f171329bdb20@www.yonne.catholique.fr
ATTENDEE;CN=Tous;ROLE=REQ-PARTICIPANT:Tous
CONTACT:maison paroissiale\, 03 86 55 10 98\, paroisse.tonnerre@orange.fr
CREATED;VALUE=DATE-TIME:20201215T215846Z
DESCRIPTION:Dans le Tonnerrois\, Dieu viendra nous rejoindre pour éclaire
 r nos vies\, à travers ces célébrations de Noël\, en cette année part
 iculièrement sombre....
LAST-MODIFIED;VALUE=DATE-TIME:20201215T215900Z
LOCATION:les églises du Tonnerrois
URL:https://www.yonne.catholique.fr/tonnerrois/actualite-paroissiale/agend
 a/celebrations-de-noel-2020
END:VEVENT
BEGIN:VTIMEZONE
TZID:Europe/Vienna
X-LIC-LOCATION:Europe/Vienna
BEGIN:STANDARD
DTSTART;VALUE=DATE-TIME:20201025T020000
TZNAME:CET
TZOFFSETFROM:+0200
TZOFFSETTO:+0100
END:STANDARD
END:VTIMEZONE
END:VCALENDAR
