BEGIN:VCALENDAR
VERSION:2.0
PRODID:-//Plone.org//NONSGML plone.app.event//EN
X-WR-TIMEZONE:Europe/Paris
BEGIN:VEVENT
SUMMARY:Célébrations de Noël 2024
DTSTART;TZID=Europe/Paris;VALUE=DATE-TIME:20241224T180000
DTEND;TZID=Europe/Paris;VALUE=DATE-TIME:20241225T120000
DTSTAMP;VALUE=DATE-TIME:20260420T033801Z
UID:7d9a8ab309424949be907fd544ad70fe@www.yonne.catholique.fr
ATTENDEE;CN="Tous les hommes et femmes de bonne volonté...";ROLE=REQ-PART
 ICIPANT:Tous les hommes et femmes de bonne volonté...
ATTENDEE;CN="Tous, en famille ou seuls";ROLE=REQ-PARTICIPANT:Tous, en fami
 lle ou seuls
CONTACT:maison paroissiale de Tonnerre\, 0386551098\, paroisse.tonnerre@or
 ange.fr
CREATED;VALUE=DATE-TIME:20241210T190313Z
DESCRIPTION:Dans le Tonnerrois\, Noël se prépare...
LAST-MODIFIED;VALUE=DATE-TIME:20241210T190448Z
LOCATION:Eglises du Tonnerrois
URL:https://www.yonne.catholique.fr/tonnerrois/actualite-paroissiale/agend
 a/celebrations-de-noel-2024
END:VEVENT
BEGIN:VTIMEZONE
TZID:Europe/Paris
X-LIC-LOCATION:Europe/Paris
BEGIN:STANDARD
DTSTART;VALUE=DATE-TIME:20241027T020000
TZNAME:CET
TZOFFSETFROM:+0200
TZOFFSETTO:+0100
END:STANDARD
END:VTIMEZONE
END:VCALENDAR
