BEGIN:VCALENDAR
VERSION:2.0
PRODID:-//Plone.org//NONSGML plone.app.event//EN
X-WR-TIMEZONE:Europe/Paris
BEGIN:VEVENT
SUMMARY:Eveil à la foi des 3-7 ans-Février 2020
DTSTART;TZID=Europe/Vienna;VALUE=DATE-TIME:20200212T150000
DTEND;TZID=Europe/Vienna;VALUE=DATE-TIME:20200212T163000
DTSTAMP;VALUE=DATE-TIME:20260420T124306Z
UID:af5fd73f1cb54275907dc02fc4e448d2@www.yonne.catholique.fr
ATTENDEE;CN="tous les enfants 3-7 ans";ROLE=REQ-PARTICIPANT:tous les enfan
 ts 3-7 ans
CONTACT:maison paroissiale\, 03 86 55 10 98\, paroisse.tonnerre@orange.fr
CREATED;VALUE=DATE-TIME:20200111T201712Z
DESCRIPTION:Lors du Carême et le vendredi \, les chrétiens aiment se rap
 peler que Dieu a partagé pains et poissons…\; ils mangent du poisson et
  partagent avec le malheureux qui a besoin.\nLes enfants aiment voir les p
 oissons… car ils vivent dans l’eau (qui  reste un lieu  hostile pour l
 es enfants)…\, quand on les pêche sous l’eau\, c’est toujours myst
 érieux. Et on fait les « poissons d’Avril »!!!
LAST-MODIFIED;VALUE=DATE-TIME:20200111T201720Z
LOCATION:Maison paroissiale de Tonnerre-09 rue du Patis-salle Paulin
URL:https://www.yonne.catholique.fr/tonnerrois/actualite-paroissiale/agend
 a/eveil-a-la-foi-des-3-7-ans-fevrier-2020
END:VEVENT
BEGIN:VTIMEZONE
TZID:Europe/Vienna
X-LIC-LOCATION:Europe/Vienna
BEGIN:STANDARD
DTSTART;VALUE=DATE-TIME:20191027T020000
TZNAME:CET
TZOFFSETFROM:+0200
TZOFFSETTO:+0100
END:STANDARD
END:VTIMEZONE
END:VCALENDAR
