BEGIN:VCALENDAR
VERSION:2.0
PRODID:-//Plone.org//NONSGML plone.app.event//EN
X-WR-TIMEZONE:Europe/Paris
BEGIN:VEVENT
SUMMARY:Eveil à la foi des 3-7 ans-Octobre 2023
DTSTART;TZID=Europe/Paris;VALUE=DATE-TIME:20231004T150000
DTEND;TZID=Europe/Paris;VALUE=DATE-TIME:20231004T163000
DTSTAMP;VALUE=DATE-TIME:20260420T000154Z
UID:12e213e7c13541a1ab6b5973433d9a87@www.yonne.catholique.fr
ATTENDEE;CN="tous les enfants (baptisés ou non) de 3 à 7ans";ROLE=REQ-PA
 RTICIPANT:tous les enfants (baptisés ou non) de 3 à 7ans
CONTACT:maison paroissiale de Tonnerre\, 03 86 55 10 98\, paroisse.tonnerr
 e@orange.fr
CREATED;VALUE=DATE-TIME:20230904T161054Z
DESCRIPTION:Nous allons commencer une nouvelle année de découverte de J
 ésus et de la Bible\, en compagnie de ces animaux… qui partagent notre 
 vie sur terre\, qui sont souvent le reflet des hommes par leur mode de vie
  ou la manière dont nous les considérons\, avec un peu « d’anthropom
 orphisme ».\nLes enfants connaissent le loup… notamment avec la litté
 rature jeunesse  (par exemple\, la série des éditions AUZOU… « le lo
 up qui voulait changer de couleur »...etc)\n
LAST-MODIFIED;VALUE=DATE-TIME:20230904T161141Z
LOCATION:salle Paulin -09 rue du Pâtis- Tonnerre
URL:https://www.yonne.catholique.fr/tonnerrois/actualite-paroissiale/agend
 a/eveil-a-la-foi-des-3-7-ans-octobre-2023
END:VEVENT
BEGIN:VTIMEZONE
TZID:Europe/Paris
X-LIC-LOCATION:Europe/Paris
BEGIN:DAYLIGHT
DTSTART;VALUE=DATE-TIME:20230326T030000
TZNAME:CEST
TZOFFSETFROM:+0100
TZOFFSETTO:+0200
END:DAYLIGHT
END:VTIMEZONE
END:VCALENDAR
