BEGIN:VCALENDAR
VERSION:2.0
PRODID:-//Plone.org//NONSGML plone.app.event//EN
X-WR-TIMEZONE:Europe/Paris
BEGIN:VEVENT
SUMMARY:Eveil à la foi des 3-7 ans-Septembre 2022
DTSTART;TZID=Europe/Paris;VALUE=DATE-TIME:20220928T150000
DTEND;TZID=Europe/Paris;VALUE=DATE-TIME:20220928T163000
DTSTAMP;VALUE=DATE-TIME:20260421T004332Z
UID:3432c138de2841289f01e13444786e5e@www.yonne.catholique.fr
ATTENDEE;CN="les enfants de 3 à 7 ans";ROLE=REQ-PARTICIPANT:les enfants d
 e 3 à 7 ans
CONTACT:maison paroissiale\, 03 86 55 10 98\, paroisse.tonnerre@orange.fr
CREATED;VALUE=DATE-TIME:20220902T200922Z
DESCRIPTION:Le chemin de la vie de vos enfants n’est pas encore très lo
 ng. Et il n’en a pas une très grande conscience\, vivant dans l’insta
 nt ou mélangeant les années. Pourtant sa vie le mène de plus en plus pa
 r des chemins qui vont à l’école\, chez les mais\, en vacances\, … c
 hez les grands-parents ou cousins. Il commence à découvrir que le monde 
 ne tourne pas autour de lui\, qu’il est bon d’aller à la rencontre de
 s amis\, d’ouvrir sa vie aux autres.\n
LAST-MODIFIED;VALUE=DATE-TIME:20220902T201229Z
LOCATION:salle Paulin -09 rue du Patis- Tonnerre
URL:https://www.yonne.catholique.fr/tonnerrois/actualite-paroissiale/agend
 a/eveil-a-la-foi-des-3-7-ans-septembre-2022
END:VEVENT
BEGIN:VTIMEZONE
TZID:Europe/Paris
X-LIC-LOCATION:Europe/Paris
BEGIN:DAYLIGHT
DTSTART;VALUE=DATE-TIME:20220327T030000
TZNAME:CEST
TZOFFSETFROM:+0100
TZOFFSETTO:+0200
END:DAYLIGHT
END:VTIMEZONE
END:VCALENDAR
