BEGIN:VCALENDAR
VERSION:2.0
PRODID:-//Plone.org//NONSGML plone.app.event//EN
X-WR-TIMEZONE:Europe/Paris
BEGIN:VEVENT
SUMMARY:Eveil à la foi des 3-7 ans-Fév 2024
DTSTART;TZID=Europe/Paris;VALUE=DATE-TIME:20240207T150000
DTEND;TZID=Europe/Paris;VALUE=DATE-TIME:20240207T160000
DTSTAMP;VALUE=DATE-TIME:20260420T192324Z
UID:fff15f804452471c92ce3bb070c06a16@www.yonne.catholique.fr
ATTENDEE;CN="tous les enfants (baptisés ou non) de 3 à 7ans";ROLE=REQ-PA
 RTICIPANT:tous les enfants (baptisés ou non) de 3 à 7ans
CONTACT:paroisse de Tonnerre\, 0386551098\, paroisse.tonnerre@orange.fr
CREATED;VALUE=DATE-TIME:20231221T200148Z
DESCRIPTION:Les ânes c’est bien connu ont mauvaises réputations et on 
 s’en moque. Pourtant…. L’âne a une grand destin dans la Bible et no
 tamment dans les Evangiles: il est à la crèche\, à Noël… et sert de 
 « transport pour la fuite en Egypte. Il est aussi présent à l’entré
 e triomphale de Jésus à Jérusalem\, peu avant sa mort. Et Jésus en par
 le dans une parabole\, la plus connue: le « Bon Samaritain ». C’est 
 dire que l’âne est important pour Jésus!\n
LAST-MODIFIED;VALUE=DATE-TIME:20231227T112259Z
LOCATION:salle Paulin-09 rue du Patis-Tonnerre
URL:https://www.yonne.catholique.fr/tonnerrois/actualite-paroissiale/agend
 a/eveil-la-foi-des-3-7-ans-fev-2024
END:VEVENT
BEGIN:VTIMEZONE
TZID:Europe/Paris
X-LIC-LOCATION:Europe/Paris
BEGIN:STANDARD
DTSTART;VALUE=DATE-TIME:20231029T020000
TZNAME:CET
TZOFFSETFROM:+0200
TZOFFSETTO:+0100
END:STANDARD
END:VTIMEZONE
END:VCALENDAR
