BEGIN:VCALENDAR
VERSION:2.0
PRODID:-//Plone.org//NONSGML plone.app.event//EN
X-WR-TIMEZONE:Europe/Paris
BEGIN:VEVENT
SUMMARY:"Fêtes de la foi" sur le Tonnerrois
DTSTART;TZID=Europe/Paris;VALUE=DATE-TIME:20220604T180000
DTEND;TZID=Europe/Paris;VALUE=DATE-TIME:20220605T120000
DTSTAMP;VALUE=DATE-TIME:20260420T034923Z
UID:cacfd8185e7541bbaab7e2f602ca90c2@www.yonne.catholique.fr
ATTENDEE;CN="tous les chrétiens";ROLE=REQ-PARTICIPANT:tous les chrétiens
CONTACT:maison paroissiale\, 03 86 55 10 98\, paroisse.tonnerre@orange.fr
CREATED;VALUE=DATE-TIME:20220524T142725Z
DESCRIPTION:Lorsde la fête de Pentecôte\, les Jeunes des paroisses tonne
 rroises animeront les "Fêtes de la foi".
LAST-MODIFIED;VALUE=DATE-TIME:20220524T142750Z
LOCATION:Tonnerre
URL:https://www.yonne.catholique.fr/tonnerrois/actualite-paroissiale/agend
 a/fetes-de-la-foi-sur-le-tonnerrois-2
END:VEVENT
BEGIN:VTIMEZONE
TZID:Europe/Paris
X-LIC-LOCATION:Europe/Paris
BEGIN:DAYLIGHT
DTSTART;VALUE=DATE-TIME:20220327T030000
TZNAME:CEST
TZOFFSETFROM:+0100
TZOFFSETTO:+0200
END:DAYLIGHT
END:VTIMEZONE
END:VCALENDAR
