BEGIN:VCALENDAR
VERSION:2.0
PRODID:-//Plone.org//NONSGML plone.app.event//EN
X-WR-TIMEZONE:Europe/Paris
BEGIN:VEVENT
SUMMARY:Formation à l'art floral en liturgie
DTSTART;TZID=Europe/Vienna;VALUE=DATE-TIME:20201017T140000
DTEND;TZID=Europe/Vienna;VALUE=DATE-TIME:20201017T170000
DTSTAMP;VALUE=DATE-TIME:20260420T132856Z
UID:d13e6915646243728228003070a6ce86@www.yonne.catholique.fr
ATTENDEE;CN="tous ceux qui ont à élaborer des compositions florales dans
  une église";ROLE=REQ-PARTICIPANT:tous ceux qui ont à élaborer des comp
 ositions florales dans une église
CONTACT:maison paroissiale\, 03 86 55 10 98\, paroisse.tonnerre@orange.fr
CREATED;VALUE=DATE-TIME:20200916T135205Z
DESCRIPTION:Lors des célébrations chrétiennes\, la liturgie est une act
 ion qui se caractérise surtout par des chants\, des processions\, des pri
 ères... parfois un visuel.\nLe fleurissement\, dans une visée dynamique\
 , peut contribuer à rendre gloire à Dieu. L'art floral en liturgie le pe
 rmet.\nD’autant plus que la Création est le premier chant à la gloire 
 de notre Créateur.
LAST-MODIFIED;VALUE=DATE-TIME:20200916T135225Z
LOCATION:salle Paulin-09 rue du Patis à Tonnerre
URL:https://www.yonne.catholique.fr/tonnerrois/actualite-paroissiale/agend
 a/formation-a-lart-floral-en-liturgie
END:VEVENT
BEGIN:VTIMEZONE
TZID:Europe/Vienna
X-LIC-LOCATION:Europe/Vienna
BEGIN:DAYLIGHT
DTSTART;VALUE=DATE-TIME:20200329T030000
TZNAME:CEST
TZOFFSETFROM:+0100
TZOFFSETTO:+0200
END:DAYLIGHT
END:VTIMEZONE
END:VCALENDAR
