BEGIN:VCALENDAR
VERSION:2.0
PRODID:-//Plone.org//NONSGML plone.app.event//EN
X-WR-TIMEZONE:Europe/Paris
BEGIN:VEVENT
SUMMARY:Inscriptions Caté 2023-2024
DTSTART;TZID=Europe/Paris;VALUE=DATE-TIME:20230910T203000
DTEND;TZID=Europe/Paris;VALUE=DATE-TIME:20231004T163000
DTSTAMP;VALUE=DATE-TIME:20260420T185623Z
UID:35315c120fd0486c92f69d7b536c4a5d@www.yonne.catholique.fr
ATTENDEE;CN="Familles et enfants concernés par le Caté";ROLE=REQ-PARTICI
 PANT:Familles et enfants concernés par le Caté
CONTACT:maison paroissiale de Tonnerre\, 03 86 55 10 98\, paroisse.tonnerr
 e@orange.fr
CREATED;VALUE=DATE-TIME:20230815T201131Z
DESCRIPTION:La rentrée approche... le caté s'organise... les inscription
 s vont s'ouvrir....\nA bientôt....
LAST-MODIFIED;VALUE=DATE-TIME:20230815T201205Z
LOCATION:09 ru du Patis à Tonnerre\, salle Paulin
URL:https://www.yonne.catholique.fr/tonnerrois/actualite-paroissiale/agend
 a/inscriptions-cate-2023-2024
END:VEVENT
BEGIN:VTIMEZONE
TZID:Europe/Paris
X-LIC-LOCATION:Europe/Paris
BEGIN:DAYLIGHT
DTSTART;VALUE=DATE-TIME:20230326T030000
TZNAME:CEST
TZOFFSETFROM:+0100
TZOFFSETTO:+0200
END:DAYLIGHT
END:VTIMEZONE
END:VCALENDAR
