BEGIN:VCALENDAR
VERSION:2.0
PRODID:-//Plone.org//NONSGML plone.app.event//EN
X-WR-TIMEZONE:Europe/Paris
BEGIN:VEVENT
SUMMARY:Journée du Pardon du 18 Mars 2023
DTSTART;TZID=Europe/Paris;VALUE=DATE-TIME:20230318T140000
DTEND;TZID=Europe/Paris;VALUE=DATE-TIME:20230318T170000
DTSTAMP;VALUE=DATE-TIME:20260425T000211Z
UID:257887d49ac74c908d0bd73e02ad1a5a@www.yonne.catholique.fr
ATTENDEE;CN=tous;ROLE=REQ-PARTICIPANT:tous
ATTENDEE;CN="les enfants à partir de 14H00";ROLE=REQ-PARTICIPANT:les enfa
 nts à partir de 14H00
ATTENDEE;CN="les adultes à partir de 14H45";ROLE=REQ-PARTICIPANT:les adul
 tes à partir de 14H45
CONTACT:maison paroissiale\, 03 86 55 10 98\, paroisse.tonnerre@orange.fr
CREATED;VALUE=DATE-TIME:20230206T135622Z
DESCRIPTION:Avant d’entrer dans la Semaine Sainte qui vient au bout du C
 arême\, nous te proposons aujourd’hui un moment génial : vivre le pard
 on comme une fête !\nLe Carême est en effet un chemin vers Pâques. Mais
  c’est toute la vie qui est un chemin\, sur lequel Jésus vient marcher 
 avec nous pour nous mener à la Vie éternelle. Le chrétien  n’est pas 
 un sédentaire. Il marche vers l’inconnu\, aidé par ce qu’on pourrait
  appeler des « panneaux de signalisation » que sont la parole de Jésus 
 et les recommandations de Dieu.\n« Je t’ai porté comme un homme porte 
 son fils » dit Dieu à son peuple\, dans le livre du Deutéronome. (Dt 1)
 \n
LAST-MODIFIED;VALUE=DATE-TIME:20230206T135837Z
LOCATION:Entre la Maison paroissiale (0ç rue du Pâtis) et l'église St P
 ierre à Tonnerre
URL:https://www.yonne.catholique.fr/tonnerrois/actualite-paroissiale/agend
 a/journee-du-pardon-du-18-mars-2023
END:VEVENT
BEGIN:VTIMEZONE
TZID:Europe/Paris
X-LIC-LOCATION:Europe/Paris
BEGIN:STANDARD
DTSTART;VALUE=DATE-TIME:20221030T020000
TZNAME:CET
TZOFFSETFROM:+0200
TZOFFSETTO:+0100
END:STANDARD
END:VTIMEZONE
END:VCALENDAR
