BEGIN:VCALENDAR
VERSION:2.0
PRODID:-//Plone.org//NONSGML plone.app.event//EN
X-WR-TIMEZONE:Europe/Paris
BEGIN:VEVENT
SUMMARY:Messe avec les malades
DTSTART;TZID=Europe/Vienna;VALUE=DATE-TIME:20220211T150000
DTEND;TZID=Europe/Vienna;VALUE=DATE-TIME:20220211T160000
DTSTAMP;VALUE=DATE-TIME:20260423T002711Z
UID:4168ca54a419404692d67b04177fcbf5@www.yonne.catholique.fr
ATTENDEE;CN="malades et visiteurs de malades";ROLE=REQ-PARTICIPANT:malades
  et visiteurs de malades
CONTACT:maison paroissiale\, 03 86 55 10 98\, paroisse.tonnerre@orange.fr
CREATED;VALUE=DATE-TIME:20220208T182918Z
DESCRIPTION:Au jour de la "journée de prière pour les malades"\, le 11 F
 évrier 2022\, malades et visiteurs à domicile se retrouvent\nlors d'une 
 messe d'action de grâce et de d'intercessions...pour les malades eux-mêm
 es\, les soignats\, les aidants et les christophores...
LAST-MODIFIED;VALUE=DATE-TIME:20220208T183547Z
LOCATION:salle Paulin -09 rue du Patis- Tonnerre
URL:https://www.yonne.catholique.fr/tonnerrois/actualite-paroissiale/agend
 a/messe-avec-les-malades
END:VEVENT
BEGIN:VTIMEZONE
TZID:Europe/Vienna
X-LIC-LOCATION:Europe/Vienna
BEGIN:STANDARD
DTSTART;VALUE=DATE-TIME:20211031T020000
TZNAME:CET
TZOFFSETFROM:+0200
TZOFFSETTO:+0100
END:STANDARD
END:VTIMEZONE
END:VCALENDAR
