BEGIN:VCALENDAR
VERSION:2.0
PRODID:-//Plone.org//NONSGML plone.app.event//EN
X-WR-TIMEZONE:Europe/Paris
BEGIN:VEVENT
SUMMARY:Messe des familles de Janvier 2020
DTSTART;TZID=Europe/Vienna;VALUE=DATE-TIME:20200112T110000
DTEND;TZID=Europe/Vienna;VALUE=DATE-TIME:20200112T110000
DTSTAMP;VALUE=DATE-TIME:20260421T044748Z
UID:33dc36f0b5a8409da0afd5297a115eca@www.yonne.catholique.fr
ATTENDEE;CN="tous... et particulièrement les jeunes du caté et leurs pro
 ches";ROLE=REQ-PARTICIPANT:tous... et particulièrement les jeunes du cat
 é et leurs proches
CONTACT:maison paroissiale\, 03 86 55 10 98\, paroisse.tonnerre@orange.fr
CREATED;VALUE=DATE-TIME:20191221T205419Z
DESCRIPTION:Après les vacances... et pour ouvrir l'année\, les jeunes du
  caté et leurs proches se retrouvent pour une "messe des familles\, lors 
 de la fête du Baptême du Seigneur".\nCe sera l'occasion d'entourer Axell
 e qui demande à entrer dans le groupe de la catéchèse pour y préparer 
 son baptême.
LAST-MODIFIED;VALUE=DATE-TIME:20191221T210330Z
LOCATION:église Notre Dame de Tonnerre
URL:https://www.yonne.catholique.fr/tonnerrois/actualite-paroissiale/agend
 a/messe-des-familles-de-janvier-2020
END:VEVENT
BEGIN:VTIMEZONE
TZID:Europe/Vienna
X-LIC-LOCATION:Europe/Vienna
BEGIN:STANDARD
DTSTART;VALUE=DATE-TIME:20191027T020000
TZNAME:CET
TZOFFSETFROM:+0200
TZOFFSETTO:+0100
END:STANDARD
END:VTIMEZONE
END:VCALENDAR
