BEGIN:VCALENDAR
VERSION:2.0
PRODID:-//Plone.org//NONSGML plone.app.event//EN
X-WR-TIMEZONE:Europe/Paris
BEGIN:VEVENT
SUMMARY:Rencontre des relais paroissiaux
DTSTART;TZID=Europe/Paris;VALUE=DATE-TIME:20220517T150000
DTEND;TZID=Europe/Paris;VALUE=DATE-TIME:20220517T163000
DTSTAMP;VALUE=DATE-TIME:20260422T134248Z
UID:6cbd7de43962492a855e3e7da04ecc6e@www.yonne.catholique.fr
ATTENDEE;CN="tous les relais de Tonnerre et des villages";ROLE=REQ-PARTICI
 PANT:tous les relais de Tonnerre et des villages
CONTACT:maison paroissiale\, 03 86 55 10 98\, paroisse.tonnerre@orange.fr
CREATED;VALUE=DATE-TIME:20220419T202705Z
DESCRIPTION:La présence aux diverses communautés de nos villages comme l
 e lien de ces communautés avec la Paroisse... voilà le rôle des relais 
 paroissiaux.\nIl y a bien longtemps que nous n'avons fait le point\, remis
  à jour les renseignements à connaître pour représenter l'Eglise\, rem
 onter les questions des uns et des autres\, fait état des difficultés re
 ncontrées... et réorganisé notre maillage.
LAST-MODIFIED;VALUE=DATE-TIME:20220419T202720Z
LOCATION:salle Paulin -09 rue du Patis- Tonnerre
URL:https://www.yonne.catholique.fr/tonnerrois/actualite-paroissiale/agend
 a/rencontre-des-relais-paroissiaux
END:VEVENT
BEGIN:VTIMEZONE
TZID:Europe/Paris
X-LIC-LOCATION:Europe/Paris
BEGIN:DAYLIGHT
DTSTART;VALUE=DATE-TIME:20220327T030000
TZNAME:CEST
TZOFFSETFROM:+0100
TZOFFSETTO:+0200
END:DAYLIGHT
END:VTIMEZONE
END:VCALENDAR
