BEGIN:VCALENDAR
VERSION:2.0
PRODID:-//Plone.org//NONSGML plone.app.event//EN
X-WR-TIMEZONE:Europe/Paris
BEGIN:VEVENT
SUMMARY:Temps d'adoration de Décembre 2024
DTSTART;TZID=Europe/Paris;VALUE=DATE-TIME:20241212T180000
DTEND;TZID=Europe/Paris;VALUE=DATE-TIME:20241212T190000
DTSTAMP;VALUE=DATE-TIME:20260420T190512Z
UID:c853d66b1ade4684a82a1d7e6b967a24@www.yonne.catholique.fr
ATTENDEE;CN=Tous;ROLE=REQ-PARTICIPANT:Tous
CONTACT:maison paroissiale de Tonnerre-09 rue du Patis à la salle Paulin\
 , 0386551098\, paroisse.tonnerre@orange.fr
CREATED;VALUE=DATE-TIME:20241121T183850Z
LAST-MODIFIED;VALUE=DATE-TIME:20241121T184033Z
LOCATION:salle Paulin-09 rue du Patis-Tonnerre
URL:https://www.yonne.catholique.fr/tonnerrois/actualite-paroissiale/agend
 a/temps-dadoration-de-decembre-2024
END:VEVENT
BEGIN:VTIMEZONE
TZID:Europe/Paris
X-LIC-LOCATION:Europe/Paris
BEGIN:STANDARD
DTSTART;VALUE=DATE-TIME:20241027T020000
TZNAME:CET
TZOFFSETFROM:+0200
TZOFFSETTO:+0100
END:STANDARD
END:VTIMEZONE
END:VCALENDAR
