BEGIN:VCALENDAR
VERSION:2.0
PRODID:-//Plone.org//NONSGML plone.app.event//EN
X-WR-TIMEZONE:Europe/Paris
BEGIN:VEVENT
SUMMARY:Temps d'adoration-Décembre 2021
DTSTART;TZID=Europe/Vienna;VALUE=DATE-TIME:20211217T180000
DTEND;TZID=Europe/Vienna;VALUE=DATE-TIME:20211217T190000
DTSTAMP;VALUE=DATE-TIME:20260421T202501Z
UID:ce58c5c8e9ae4842839fd9102aa414d6@www.yonne.catholique.fr
ATTENDEE;CN=Tous;ROLE=REQ-PARTICIPANT:Tous
CONTACT:maison paroissiale\, 03 86 55 10 98\, paroisse.tonnerre@orange.fr
CREATED;VALUE=DATE-TIME:20211128T180642Z
DESCRIPTION:Un temps pour se tenir devant Dieu dans le silence et les chan
 ts\, car Dieu veut nous rendre saint comme lui-même est saint\, par sa pr
 ésence en nous et au milieu de nous.…
LAST-MODIFIED;VALUE=DATE-TIME:20211128T180738Z
LOCATION:salle Paulin 09 rue du Patis à Tonnerre
URL:https://www.yonne.catholique.fr/tonnerrois/actualite-paroissiale/agend
 a/temps-dadoration-decembre-2021
END:VEVENT
BEGIN:VTIMEZONE
TZID:Europe/Vienna
X-LIC-LOCATION:Europe/Vienna
BEGIN:STANDARD
DTSTART;VALUE=DATE-TIME:20211031T020000
TZNAME:CET
TZOFFSETFROM:+0200
TZOFFSETTO:+0100
END:STANDARD
END:VTIMEZONE
END:VCALENDAR
